BEGIN:VCALENDAR
VERSION:2.0
PRODID:-//ZONE 3 CANBERRA - ECPv6.15.20//NONSGML v1.0//EN
CALSCALE:GREGORIAN
METHOD:PUBLISH
X-ORIGINAL-URL:https://www.zone3act.com.au
X-WR-CALDESC:Events for ZONE 3 CANBERRA
REFRESH-INTERVAL;VALUE=DURATION:PT1H
X-Robots-Tag:noindex
X-PUBLISHED-TTL:PT1H
BEGIN:VTIMEZONE
TZID:Australia/Melbourne
BEGIN:STANDARD
TZOFFSETFROM:+1100
TZOFFSETTO:+1000
TZNAME:AEST
DTSTART:20210403T160000
END:STANDARD
BEGIN:DAYLIGHT
TZOFFSETFROM:+1000
TZOFFSETTO:+1100
TZNAME:AEDT
DTSTART:20211002T160000
END:DAYLIGHT
BEGIN:STANDARD
TZOFFSETFROM:+1100
TZOFFSETTO:+1000
TZNAME:AEST
DTSTART:20220402T160000
END:STANDARD
BEGIN:DAYLIGHT
TZOFFSETFROM:+1000
TZOFFSETTO:+1100
TZNAME:AEDT
DTSTART:20221001T160000
END:DAYLIGHT
BEGIN:STANDARD
TZOFFSETFROM:+1100
TZOFFSETTO:+1000
TZNAME:AEST
DTSTART:20230401T160000
END:STANDARD
BEGIN:DAYLIGHT
TZOFFSETFROM:+1000
TZOFFSETTO:+1100
TZNAME:AEDT
DTSTART:20230930T160000
END:DAYLIGHT
END:VTIMEZONE
BEGIN:VEVENT
DTSTART;TZID=Australia/Melbourne:20220613T190000
DTEND;TZID=Australia/Melbourne:20220613T203000
DTSTAMP:20260422T083236
CREATED:20220510T141755Z
LAST-MODIFIED:20220615T143835Z
UID:404-1655146800-1655152200@www.zone3act.com.au
SUMMARY:Senior League
DESCRIPTION:
URL:https://www.zone3act.com.au/event/senior-league/2022-06-13/
LOCATION:Zone 3 Canberra\, 28 Weedon Close\, Belconnen\, ACT\, 2617\, Australia
ATTACH;FMTTYPE=image/jpeg:https://www.zone3act.com.au/wp-content/uploads/2022/05/7193.jpg
ORGANIZER;CN="Zone 3 Canberra":MAILTO:zone3@zone3act.com.au
END:VEVENT
END:VCALENDAR