BEGIN:VCALENDAR
VERSION:2.0
PRODID:-//ZONE 3 CANBERRA - ECPv6.15.20//NONSGML v1.0//EN
CALSCALE:GREGORIAN
METHOD:PUBLISH
X-WR-CALNAME:ZONE 3 CANBERRA
X-ORIGINAL-URL:https://www.zone3act.com.au
X-WR-CALDESC:Events for ZONE 3 CANBERRA
REFRESH-INTERVAL;VALUE=DURATION:PT1H
X-Robots-Tag:noindex
X-PUBLISHED-TTL:PT1H
BEGIN:VTIMEZONE
TZID:Australia/Melbourne
BEGIN:STANDARD
TZOFFSETFROM:+1100
TZOFFSETTO:+1000
TZNAME:AEST
DTSTART:20230401T160000
END:STANDARD
BEGIN:DAYLIGHT
TZOFFSETFROM:+1000
TZOFFSETTO:+1100
TZNAME:AEDT
DTSTART:20230930T160000
END:DAYLIGHT
BEGIN:STANDARD
TZOFFSETFROM:+1100
TZOFFSETTO:+1000
TZNAME:AEST
DTSTART:20240406T160000
END:STANDARD
BEGIN:DAYLIGHT
TZOFFSETFROM:+1000
TZOFFSETTO:+1100
TZNAME:AEDT
DTSTART:20241005T160000
END:DAYLIGHT
BEGIN:STANDARD
TZOFFSETFROM:+1100
TZOFFSETTO:+1000
TZNAME:AEST
DTSTART:20250405T160000
END:STANDARD
BEGIN:DAYLIGHT
TZOFFSETFROM:+1000
TZOFFSETTO:+1100
TZNAME:AEDT
DTSTART:20251004T160000
END:DAYLIGHT
END:VTIMEZONE
BEGIN:VEVENT
DTSTART;TZID=Australia/Melbourne:20240923T163000
DTEND;TZID=Australia/Melbourne:20240923T180000
DTSTAMP:20260420T024522
CREATED:20240731T084800Z
LAST-MODIFIED:20240731T084800Z
UID:15341-1727109000-1727114400@www.zone3act.com.au
SUMMARY:Juniors League Term 3 2024
DESCRIPTION:Come try our competitive league for juniors! Ages between 10yo and 16yo welcome.  \n\n\n\nWarm-up free-for-all game starts at 4:15pm\, and team games start at 4:30pm and finish is at 6:00pm. \n\n\n\nEvery Monday during the school term except for public holidays. \n\n\n\nStarting Monday 27th July and finishing Monday 23rd September 2024.  \n\n\n\nCall 02 6251 7200 or email Zone3@Zone3act.com.au for enquiries.
URL:https://www.zone3act.com.au/event/juniors-league-term-3-2024/2024-09-23/
END:VEVENT
BEGIN:VEVENT
DTSTART;TZID=Australia/Melbourne:20240916T163000
DTEND;TZID=Australia/Melbourne:20240916T180000
DTSTAMP:20260420T024522
CREATED:20240731T084800Z
LAST-MODIFIED:20240731T085024Z
UID:15334-1726504200-1726509600@www.zone3act.com.au
SUMMARY:Juniors League Term 3 2024
DESCRIPTION:Come try our competitive league for juniors! Ages between 10yo and 16yo welcome.  \n\n\n\nWarm-up free-for-all game starts at 4:15pm\, and team games start at 4:30pm and finish is at 6:00pm. \n\n\n\nEvery Monday during the school term except for public holidays. \n\n\n\nStarting Monday 27th July and finishing Monday 23rd September 2024.  \n\n\n\nCall 02 6251 7200 or email Zone3@Zone3act.com.au for enquiries.
URL:https://www.zone3act.com.au/event/juniors-league-term-3-2024/2024-09-16/
END:VEVENT
BEGIN:VEVENT
DTSTART;TZID=Australia/Melbourne:20240909T163000
DTEND;TZID=Australia/Melbourne:20240909T180000
DTSTAMP:20260420T024522
CREATED:20240731T084800Z
LAST-MODIFIED:20240731T085023Z
UID:15333-1725899400-1725904800@www.zone3act.com.au
SUMMARY:Juniors League Term 3 2024
DESCRIPTION:Come try our competitive league for juniors! Ages between 10yo and 16yo welcome.  \n\n\n\nWarm-up free-for-all game starts at 4:15pm\, and team games start at 4:30pm and finish is at 6:00pm. \n\n\n\nEvery Monday during the school term except for public holidays. \n\n\n\nStarting Monday 27th July and finishing Monday 23rd September 2024.  \n\n\n\nCall 02 6251 7200 or email Zone3@Zone3act.com.au for enquiries.
URL:https://www.zone3act.com.au/event/juniors-league-term-3-2024/2024-09-09/
END:VEVENT
BEGIN:VEVENT
DTSTART;TZID=Australia/Melbourne:20240902T163000
DTEND;TZID=Australia/Melbourne:20240902T180000
DTSTAMP:20260420T024522
CREATED:20240731T084800Z
LAST-MODIFIED:20240731T085021Z
UID:15332-1725294600-1725300000@www.zone3act.com.au
SUMMARY:Juniors League Term 3 2024
DESCRIPTION:Come try our competitive league for juniors! Ages between 10yo and 16yo welcome.  \n\n\n\nWarm-up free-for-all game starts at 4:15pm\, and team games start at 4:30pm and finish is at 6:00pm. \n\n\n\nEvery Monday during the school term except for public holidays. \n\n\n\nStarting Monday 27th July and finishing Monday 23rd September 2024.  \n\n\n\nCall 02 6251 7200 or email Zone3@Zone3act.com.au for enquiries.
URL:https://www.zone3act.com.au/event/juniors-league-term-3-2024/2024-09-02/
END:VEVENT
BEGIN:VEVENT
DTSTART;TZID=Australia/Melbourne:20240826T163000
DTEND;TZID=Australia/Melbourne:20240826T180000
DTSTAMP:20260420T024522
CREATED:20240731T084800Z
LAST-MODIFIED:20240731T085020Z
UID:15331-1724689800-1724695200@www.zone3act.com.au
SUMMARY:Juniors League Term 3 2024
DESCRIPTION:Come try our competitive league for juniors! Ages between 10yo and 16yo welcome.  \n\n\n\nWarm-up free-for-all game starts at 4:15pm\, and team games start at 4:30pm and finish is at 6:00pm. \n\n\n\nEvery Monday during the school term except for public holidays. \n\n\n\nStarting Monday 27th July and finishing Monday 23rd September 2024.  \n\n\n\nCall 02 6251 7200 or email Zone3@Zone3act.com.au for enquiries.
URL:https://www.zone3act.com.au/event/juniors-league-term-3-2024/2024-08-26/
END:VEVENT
BEGIN:VEVENT
DTSTART;TZID=Australia/Melbourne:20240819T163000
DTEND;TZID=Australia/Melbourne:20240819T180000
DTSTAMP:20260420T024522
CREATED:20240731T084800Z
LAST-MODIFIED:20240731T085018Z
UID:15330-1724085000-1724090400@www.zone3act.com.au
SUMMARY:Juniors League Term 3 2024
DESCRIPTION:Come try our competitive league for juniors! Ages between 10yo and 16yo welcome.  \n\n\n\nWarm-up free-for-all game starts at 4:15pm\, and team games start at 4:30pm and finish is at 6:00pm. \n\n\n\nEvery Monday during the school term except for public holidays. \n\n\n\nStarting Monday 27th July and finishing Monday 23rd September 2024.  \n\n\n\nCall 02 6251 7200 or email Zone3@Zone3act.com.au for enquiries.
URL:https://www.zone3act.com.au/event/juniors-league-term-3-2024/2024-08-19/
END:VEVENT
BEGIN:VEVENT
DTSTART;TZID=Australia/Melbourne:20240812T163000
DTEND;TZID=Australia/Melbourne:20240812T180000
DTSTAMP:20260420T024522
CREATED:20240731T084800Z
LAST-MODIFIED:20240731T085017Z
UID:15329-1723480200-1723485600@www.zone3act.com.au
SUMMARY:Juniors League Term 3 2024
DESCRIPTION:Come try our competitive league for juniors! Ages between 10yo and 16yo welcome.  \n\n\n\nWarm-up free-for-all game starts at 4:15pm\, and team games start at 4:30pm and finish is at 6:00pm. \n\n\n\nEvery Monday during the school term except for public holidays. \n\n\n\nStarting Monday 27th July and finishing Monday 23rd September 2024.  \n\n\n\nCall 02 6251 7200 or email Zone3@Zone3act.com.au for enquiries.
URL:https://www.zone3act.com.au/event/juniors-league-term-3-2024/2024-08-12/
END:VEVENT
BEGIN:VEVENT
DTSTART;TZID=Australia/Melbourne:20240805T163000
DTEND;TZID=Australia/Melbourne:20240805T180000
DTSTAMP:20260420T024522
CREATED:20240731T084800Z
LAST-MODIFIED:20240731T085014Z
UID:15305-1722875400-1722880800@www.zone3act.com.au
SUMMARY:Juniors League Term 3 2024
DESCRIPTION:Come try our competitive league for juniors! Ages between 10yo and 16yo welcome.  \n\n\n\nWarm-up free-for-all game starts at 4:15pm\, and team games start at 4:30pm and finish is at 6:00pm. \n\n\n\nEvery Monday during the school term except for public holidays. \n\n\n\nStarting Monday 27th July and finishing Monday 23rd September 2024.  \n\n\n\nCall 02 6251 7200 or email Zone3@Zone3act.com.au for enquiries.
URL:https://www.zone3act.com.au/event/juniors-league-term-3-2024/2024-08-05/
END:VEVENT
END:VCALENDAR