BEGIN:VCALENDAR
VERSION:2.0
PRODID:-//ZONE 3 CANBERRA - ECPv6.15.20//NONSGML v1.0//EN
CALSCALE:GREGORIAN
METHOD:PUBLISH
X-WR-CALNAME:ZONE 3 CANBERRA
X-ORIGINAL-URL:https://www.zone3act.com.au
X-WR-CALDESC:Events for ZONE 3 CANBERRA
REFRESH-INTERVAL;VALUE=DURATION:PT1H
X-Robots-Tag:noindex
X-PUBLISHED-TTL:PT1H
BEGIN:VTIMEZONE
TZID:Australia/Melbourne
BEGIN:STANDARD
TZOFFSETFROM:+1100
TZOFFSETTO:+1000
TZNAME:AEST
DTSTART:20230401T160000
END:STANDARD
BEGIN:DAYLIGHT
TZOFFSETFROM:+1000
TZOFFSETTO:+1100
TZNAME:AEDT
DTSTART:20230930T160000
END:DAYLIGHT
BEGIN:STANDARD
TZOFFSETFROM:+1100
TZOFFSETTO:+1000
TZNAME:AEST
DTSTART:20240406T160000
END:STANDARD
BEGIN:DAYLIGHT
TZOFFSETFROM:+1000
TZOFFSETTO:+1100
TZNAME:AEDT
DTSTART:20241005T160000
END:DAYLIGHT
BEGIN:STANDARD
TZOFFSETFROM:+1100
TZOFFSETTO:+1000
TZNAME:AEST
DTSTART:20250405T160000
END:STANDARD
BEGIN:DAYLIGHT
TZOFFSETFROM:+1000
TZOFFSETTO:+1100
TZNAME:AEDT
DTSTART:20251004T160000
END:DAYLIGHT
END:VTIMEZONE
BEGIN:VEVENT
DTSTART;TZID=Australia/Melbourne:20240701T163000
DTEND;TZID=Australia/Melbourne:20240701T180000
DTSTAMP:20260421T223211
CREATED:20240420T041531Z
LAST-MODIFIED:20240420T041531Z
UID:15289-1719851400-1719856800@www.zone3act.com.au
SUMMARY:Junior League - Term 2 - 2024
DESCRIPTION:For kids aged 10 to 16 years old.  \n\n\n\nWarm-up free-for-all game starts at 4:15pm\, and team games start at 4:30pm and finish is at 6:00pm.  \n\n\n\nEvery Monday during the school term except for public holidays.  \n\n\n\nStarting Monday 6th May and finishing Monday 1st July 2024.    \n\n\n\nCall 02 6251 7200 or email Zone3@Zone3act.com.au for enquiries.
URL:https://www.zone3act.com.au/event/junior-league-term-2-2024/2024-07-01/
END:VEVENT
BEGIN:VEVENT
DTSTART;TZID=Australia/Melbourne:20240624T163000
DTEND;TZID=Australia/Melbourne:20240624T180000
DTSTAMP:20260421T223211
CREATED:20240420T041531Z
LAST-MODIFIED:20240420T041531Z
UID:15288-1719246600-1719252000@www.zone3act.com.au
SUMMARY:Junior League - Term 2 - 2024
DESCRIPTION:For kids aged 10 to 16 years old.  \n\n\n\nWarm-up free-for-all game starts at 4:15pm\, and team games start at 4:30pm and finish is at 6:00pm.  \n\n\n\nEvery Monday during the school term except for public holidays.  \n\n\n\nStarting Monday 6th May and finishing Monday 1st July 2024.    \n\n\n\nCall 02 6251 7200 or email Zone3@Zone3act.com.au for enquiries.
URL:https://www.zone3act.com.au/event/junior-league-term-2-2024/2024-06-24/
END:VEVENT
BEGIN:VEVENT
DTSTART;TZID=Australia/Melbourne:20240617T163000
DTEND;TZID=Australia/Melbourne:20240617T180000
DTSTAMP:20260421T223211
CREATED:20240420T041531Z
LAST-MODIFIED:20240420T041531Z
UID:15287-1718641800-1718647200@www.zone3act.com.au
SUMMARY:Junior League - Term 2 - 2024
DESCRIPTION:For kids aged 10 to 16 years old.  \n\n\n\nWarm-up free-for-all game starts at 4:15pm\, and team games start at 4:30pm and finish is at 6:00pm.  \n\n\n\nEvery Monday during the school term except for public holidays.  \n\n\n\nStarting Monday 6th May and finishing Monday 1st July 2024.    \n\n\n\nCall 02 6251 7200 or email Zone3@Zone3act.com.au for enquiries.
URL:https://www.zone3act.com.au/event/junior-league-term-2-2024/2024-06-17/
END:VEVENT
BEGIN:VEVENT
DTSTART;TZID=Australia/Melbourne:20240603T163000
DTEND;TZID=Australia/Melbourne:20240603T180000
DTSTAMP:20260421T223211
CREATED:20240420T041531Z
LAST-MODIFIED:20240420T041531Z
UID:15286-1717432200-1717437600@www.zone3act.com.au
SUMMARY:Junior League - Term 2 - 2024
DESCRIPTION:For kids aged 10 to 16 years old.  \n\n\n\nWarm-up free-for-all game starts at 4:15pm\, and team games start at 4:30pm and finish is at 6:00pm.  \n\n\n\nEvery Monday during the school term except for public holidays.  \n\n\n\nStarting Monday 6th May and finishing Monday 1st July 2024.    \n\n\n\nCall 02 6251 7200 or email Zone3@Zone3act.com.au for enquiries.
URL:https://www.zone3act.com.au/event/junior-league-term-2-2024/2024-06-03/
END:VEVENT
BEGIN:VEVENT
DTSTART;TZID=Australia/Melbourne:20240520T163000
DTEND;TZID=Australia/Melbourne:20240520T180000
DTSTAMP:20260421T223211
CREATED:20240420T041531Z
LAST-MODIFIED:20240420T041531Z
UID:15285-1716222600-1716228000@www.zone3act.com.au
SUMMARY:Junior League - Term 2 - 2024
DESCRIPTION:For kids aged 10 to 16 years old.  \n\n\n\nWarm-up free-for-all game starts at 4:15pm\, and team games start at 4:30pm and finish is at 6:00pm.  \n\n\n\nEvery Monday during the school term except for public holidays.  \n\n\n\nStarting Monday 6th May and finishing Monday 1st July 2024.    \n\n\n\nCall 02 6251 7200 or email Zone3@Zone3act.com.au for enquiries.
URL:https://www.zone3act.com.au/event/junior-league-term-2-2024/2024-05-20/
END:VEVENT
BEGIN:VEVENT
DTSTART;TZID=Australia/Melbourne:20240513T163000
DTEND;TZID=Australia/Melbourne:20240513T180000
DTSTAMP:20260421T223211
CREATED:20240420T041531Z
LAST-MODIFIED:20240420T041531Z
UID:15284-1715617800-1715623200@www.zone3act.com.au
SUMMARY:Junior League - Term 2 - 2024
DESCRIPTION:For kids aged 10 to 16 years old.  \n\n\n\nWarm-up free-for-all game starts at 4:15pm\, and team games start at 4:30pm and finish is at 6:00pm.  \n\n\n\nEvery Monday during the school term except for public holidays.  \n\n\n\nStarting Monday 6th May and finishing Monday 1st July 2024.    \n\n\n\nCall 02 6251 7200 or email Zone3@Zone3act.com.au for enquiries.
URL:https://www.zone3act.com.au/event/junior-league-term-2-2024/2024-05-13/
END:VEVENT
BEGIN:VEVENT
DTSTART;TZID=Australia/Melbourne:20240506T163000
DTEND;TZID=Australia/Melbourne:20240506T180000
DTSTAMP:20260421T223211
CREATED:20240420T041531Z
LAST-MODIFIED:20240420T042406Z
UID:15280-1715013000-1715018400@www.zone3act.com.au
SUMMARY:Junior League - Term 2 - 2024
DESCRIPTION:For kids aged 10 to 16 years old.  \n\n\n\nWarm-up free-for-all game starts at 4:15pm\, and team games start at 4:30pm and finish is at 6:00pm.  \n\n\n\nEvery Monday during the school term except for public holidays.  \n\n\n\nStarting Monday 6th May and finishing Monday 1st July 2024.    \n\n\n\nCall 02 6251 7200 or email Zone3@Zone3act.com.au for enquiries.
URL:https://www.zone3act.com.au/event/junior-league-term-2-2024/2024-05-06/
END:VEVENT
END:VCALENDAR